BEGIN:VCALENDAR
VERSION:2.0
PRODID:-//FDP Seligenstadt - ECPv6.15.20//NONSGML v1.0//EN
CALSCALE:GREGORIAN
METHOD:PUBLISH
X-WR-CALNAME:FDP Seligenstadt
X-ORIGINAL-URL:https://fdp-seligenstadt.de
X-WR-CALDESC:Veranstaltungen für FDP Seligenstadt
REFRESH-INTERVAL;VALUE=DURATION:PT1H
X-Robots-Tag:noindex
X-PUBLISHED-TTL:PT1H
BEGIN:VTIMEZONE
TZID:Europe/Berlin
BEGIN:DAYLIGHT
TZOFFSETFROM:+0100
TZOFFSETTO:+0200
TZNAME:CEST
DTSTART:20200329T010000
END:DAYLIGHT
BEGIN:STANDARD
TZOFFSETFROM:+0200
TZOFFSETTO:+0100
TZNAME:CET
DTSTART:20201025T010000
END:STANDARD
BEGIN:DAYLIGHT
TZOFFSETFROM:+0100
TZOFFSETTO:+0200
TZNAME:CEST
DTSTART:20210328T010000
END:DAYLIGHT
BEGIN:STANDARD
TZOFFSETFROM:+0200
TZOFFSETTO:+0100
TZNAME:CET
DTSTART:20211031T010000
END:STANDARD
BEGIN:DAYLIGHT
TZOFFSETFROM:+0100
TZOFFSETTO:+0200
TZNAME:CEST
DTSTART:20220327T010000
END:DAYLIGHT
BEGIN:STANDARD
TZOFFSETFROM:+0200
TZOFFSETTO:+0100
TZNAME:CET
DTSTART:20221030T010000
END:STANDARD
END:VTIMEZONE
BEGIN:VEVENT
DTSTART;TZID=Europe/Berlin:20211213T190000
DTEND;TZID=Europe/Berlin:20211213T200000
DTSTAMP:20260423T142112
CREATED:20211213T123404Z
LAST-MODIFIED:20211213T124935Z
UID:1053-1639422000-1639425600@fdp-seligenstadt.de
SUMMARY:Live-Stream: Amtseinführung von Dr. Daniell Bastian
DESCRIPTION:Auf Grund der hohen Corona-Zahlen wird die Amtseinführung von Dr. Daniell Bastian in seine zweite Amtszeit als Bürgermeister der Einhardstadt Seligenstadt nicht im gewohnten zeremoniellen Rahmen\, sondern im Rahmen der Stadtverordnetenversammlung am Montag\, dem 13. Dezember 2021\, im Riesensaal stattfinden.\n\nDa nur eine begrenzte Anzahl an Zuschauern zugelassen ist\, hat sich die Stadtverwaltung dazu entschlossen\, die Amtseinführung des Bürgermeisters live ins Internet zu streamen.\n\nAuf der YouTube-Seite (Link: siehe unten) der Einhardstadt Seligenstadt werden Sie am 13.12. ab zirka 19 Uhr die ersten Live-Bilder aus dem Riesensaal sehen
URL:https://fdp-seligenstadt.de/event/live-stream-amtseinfuehrung-von-dr-daniell-bastian/
LOCATION:Hessen
CATEGORIES:Event
ORGANIZER;CN="Stadt Seligenstadt":MAILTO:stadt@seligenstadt.de
END:VEVENT
END:VCALENDAR