BEGIN:VCALENDAR
VERSION:2.0
PRODID:-//FDP Seligenstadt - ECPv6.15.20//NONSGML v1.0//EN
CALSCALE:GREGORIAN
METHOD:PUBLISH
X-ORIGINAL-URL:https://fdp-seligenstadt.de
X-WR-CALDESC:Veranstaltungen für FDP Seligenstadt
REFRESH-INTERVAL;VALUE=DURATION:PT1H
X-Robots-Tag:noindex
X-PUBLISHED-TTL:PT1H
BEGIN:VTIMEZONE
TZID:Europe/Berlin
BEGIN:DAYLIGHT
TZOFFSETFROM:+0100
TZOFFSETTO:+0200
TZNAME:CEST
DTSTART:20190331T010000
END:DAYLIGHT
BEGIN:STANDARD
TZOFFSETFROM:+0200
TZOFFSETTO:+0100
TZNAME:CET
DTSTART:20191027T010000
END:STANDARD
BEGIN:DAYLIGHT
TZOFFSETFROM:+0100
TZOFFSETTO:+0200
TZNAME:CEST
DTSTART:20200329T010000
END:DAYLIGHT
BEGIN:STANDARD
TZOFFSETFROM:+0200
TZOFFSETTO:+0100
TZNAME:CET
DTSTART:20201025T010000
END:STANDARD
BEGIN:DAYLIGHT
TZOFFSETFROM:+0100
TZOFFSETTO:+0200
TZNAME:CEST
DTSTART:20210328T010000
END:DAYLIGHT
BEGIN:STANDARD
TZOFFSETFROM:+0200
TZOFFSETTO:+0100
TZNAME:CET
DTSTART:20211031T010000
END:STANDARD
END:VTIMEZONE
BEGIN:VEVENT
DTSTART;TZID=Europe/Berlin:20200827T190000
DTEND;TZID=Europe/Berlin:20200827T210000
DTSTAMP:20260424T164844
CREATED:20200128T172954Z
LAST-MODIFIED:20200128T172954Z
UID:462-1598554800-1598562000@fdp-seligenstadt.de
SUMMARY:Vorstandssitzung
DESCRIPTION:
URL:https://fdp-seligenstadt.de/event/vorstandssitzung-4/
LOCATION:Zu den Drei Kronen\, Freihofplatz 4\, Seligenstadt\, Hessen\, 63500\, Deutschland
CATEGORIES:intern
ORGANIZER;CN="FDP Seligenstadt":MAILTO:info@fdp-seligenstadt.de
END:VEVENT
END:VCALENDAR