BEGIN:VCALENDAR
VERSION:2.0
PRODID:-//FDP Seligenstadt - ECPv6.15.20//NONSGML v1.0//EN
CALSCALE:GREGORIAN
METHOD:PUBLISH
X-WR-CALNAME:FDP Seligenstadt
X-ORIGINAL-URL:https://fdp-seligenstadt.de
X-WR-CALDESC:Veranstaltungen für FDP Seligenstadt
REFRESH-INTERVAL;VALUE=DURATION:PT1H
X-Robots-Tag:noindex
X-PUBLISHED-TTL:PT1H
BEGIN:VTIMEZONE
TZID:Europe/Berlin
BEGIN:DAYLIGHT
TZOFFSETFROM:+0100
TZOFFSETTO:+0200
TZNAME:CEST
DTSTART:20190331T010000
END:DAYLIGHT
BEGIN:STANDARD
TZOFFSETFROM:+0200
TZOFFSETTO:+0100
TZNAME:CET
DTSTART:20191027T010000
END:STANDARD
BEGIN:DAYLIGHT
TZOFFSETFROM:+0100
TZOFFSETTO:+0200
TZNAME:CEST
DTSTART:20200329T010000
END:DAYLIGHT
BEGIN:STANDARD
TZOFFSETFROM:+0200
TZOFFSETTO:+0100
TZNAME:CET
DTSTART:20201025T010000
END:STANDARD
BEGIN:DAYLIGHT
TZOFFSETFROM:+0100
TZOFFSETTO:+0200
TZNAME:CEST
DTSTART:20210328T010000
END:DAYLIGHT
BEGIN:STANDARD
TZOFFSETFROM:+0200
TZOFFSETTO:+0100
TZNAME:CET
DTSTART:20211031T010000
END:STANDARD
END:VTIMEZONE
BEGIN:VEVENT
DTSTART;TZID=Europe/Berlin:20200302T190000
DTEND;TZID=Europe/Berlin:20200302T210000
DTSTAMP:20260425T012625
CREATED:20200228T085058Z
LAST-MODIFIED:20200228T085217Z
UID:548-1583175600-1583182800@fdp-seligenstadt.de
SUMMARY:Redaktionstreffen
DESCRIPTION:bei Henning\, Wingertsweg 5
URL:https://fdp-seligenstadt.de/event/hms-buergerbefragung/
LOCATION:Hessen
CATEGORIES:intern
END:VEVENT
BEGIN:VEVENT
DTSTART;TZID=Europe/Berlin:20200311T190000
DTEND;TZID=Europe/Berlin:20200311T210000
DTSTAMP:20260425T012625
CREATED:20200228T084941Z
LAST-MODIFIED:20200228T084941Z
UID:546-1583953200-1583960400@fdp-seligenstadt.de
SUMMARY:HMS Infoveranstaltung im Riesen
DESCRIPTION:
URL:https://fdp-seligenstadt.de/event/hms-infoveranstaltung-im-riesen/
LOCATION:Hessen
CATEGORIES:intern
END:VEVENT
BEGIN:VEVENT
DTSTART;TZID=Europe/Berlin:20200314T090000
DTEND;TZID=Europe/Berlin:20200314T130000
DTSTAMP:20260425T012625
CREATED:20200228T084029Z
LAST-MODIFIED:20200228T084029Z
UID:540-1584176400-1584190800@fdp-seligenstadt.de
SUMMARY:Info Stand EiS auf dem Marktplatz
DESCRIPTION:
URL:https://fdp-seligenstadt.de/event/info-stand-eis-auf-dem-marktplatz/
LOCATION:Hessen
CATEGORIES:intern
END:VEVENT
BEGIN:VEVENT
DTSTART;VALUE=DATE:20200316
DTEND;VALUE=DATE:20200331
DTSTAMP:20260425T012625
CREATED:20200228T085328Z
LAST-MODIFIED:20200228T085328Z
UID:552-1584316800-1585612799@fdp-seligenstadt.de
SUMMARY:Bürgerbefragung
DESCRIPTION:
URL:https://fdp-seligenstadt.de/event/buergerbefragung/
LOCATION:Hessen
CATEGORIES:intern
END:VEVENT
BEGIN:VEVENT
DTSTART;TZID=Europe/Berlin:20200321T090000
DTEND;TZID=Europe/Berlin:20200321T130000
DTSTAMP:20260425T012625
CREATED:20200228T084106Z
LAST-MODIFIED:20200228T084106Z
UID:542-1584781200-1584795600@fdp-seligenstadt.de
SUMMARY:Info Stand EiS auf dem Marktplatz
DESCRIPTION:
URL:https://fdp-seligenstadt.de/event/info-stand-eis-auf-dem-marktplatz-2/
LOCATION:Hessen
CATEGORIES:intern
END:VEVENT
BEGIN:VEVENT
DTSTART;TZID=Europe/Berlin:20200326T190000
DTEND;TZID=Europe/Berlin:20200326T210000
DTSTAMP:20260425T012625
CREATED:20200128T173512Z
LAST-MODIFIED:20200128T173512Z
UID:471-1585249200-1585256400@fdp-seligenstadt.de
SUMMARY:Geschäftsführender Vorstand
DESCRIPTION:
URL:https://fdp-seligenstadt.de/event/geschaeftsfuehrender-vorstand/
LOCATION:Zu den Drei Kronen\, Freihofplatz 4\, Seligenstadt\, Hessen\, 63500\, Deutschland
CATEGORIES:intern
ORGANIZER;CN="FDP Seligenstadt":MAILTO:info@fdp-seligenstadt.de
END:VEVENT
END:VCALENDAR