BEGIN:VCALENDAR
VERSION:2.0
PRODID:-//FDP Seligenstadt - ECPv6.15.20//NONSGML v1.0//EN
CALSCALE:GREGORIAN
METHOD:PUBLISH
X-ORIGINAL-URL:https://fdp-seligenstadt.de
X-WR-CALDESC:Veranstaltungen für FDP Seligenstadt
REFRESH-INTERVAL;VALUE=DURATION:PT1H
X-Robots-Tag:noindex
X-PUBLISHED-TTL:PT1H
BEGIN:VTIMEZONE
TZID:Europe/Berlin
BEGIN:DAYLIGHT
TZOFFSETFROM:+0100
TZOFFSETTO:+0200
TZNAME:CEST
DTSTART:20190331T010000
END:DAYLIGHT
BEGIN:STANDARD
TZOFFSETFROM:+0200
TZOFFSETTO:+0100
TZNAME:CET
DTSTART:20191027T010000
END:STANDARD
BEGIN:DAYLIGHT
TZOFFSETFROM:+0100
TZOFFSETTO:+0200
TZNAME:CEST
DTSTART:20200329T010000
END:DAYLIGHT
BEGIN:STANDARD
TZOFFSETFROM:+0200
TZOFFSETTO:+0100
TZNAME:CET
DTSTART:20201025T010000
END:STANDARD
BEGIN:DAYLIGHT
TZOFFSETFROM:+0100
TZOFFSETTO:+0200
TZNAME:CEST
DTSTART:20210328T010000
END:DAYLIGHT
BEGIN:STANDARD
TZOFFSETFROM:+0200
TZOFFSETTO:+0100
TZNAME:CET
DTSTART:20211031T010000
END:STANDARD
END:VTIMEZONE
BEGIN:VEVENT
DTSTART;TZID=Europe/Berlin:20200220T200000
DTEND;TZID=Europe/Berlin:20200220T220000
DTSTAMP:20260425T025637
CREATED:20200128T174349Z
LAST-MODIFIED:20200128T174349Z
UID:482-1582228800-1582236000@fdp-seligenstadt.de
SUMMARY:Liberaler Stammtisch
DESCRIPTION:
URL:https://fdp-seligenstadt.de/event/liberaler-stammtisch/
LOCATION:Zum neuen Schwan\, Bahnhofstraße 2\, Seligenstadt\, Hessen\, 63500\, Deutschland
CATEGORIES:Event
ATTACH;FMTTYPE=image/jpeg:https://fdp-seligenstadt.de/wp-content/uploads/2020/01/20200115181355_IMG_8220-01.jpeg
ORGANIZER;CN="FDP Seligenstadt":MAILTO:info@fdp-seligenstadt.de
END:VEVENT
BEGIN:VEVENT
DTSTART;TZID=Europe/Berlin:20200227T190000
DTEND;TZID=Europe/Berlin:20200227T210000
DTSTAMP:20260425T025637
CREATED:20200128T163257Z
LAST-MODIFIED:20200128T163257Z
UID:446-1582830000-1582837200@fdp-seligenstadt.de
SUMMARY:Vorstandssitzung
DESCRIPTION:Sehr geehrte Damen und Herren\,\nliebe Kolleginnen und Kollegen\,\n\nhiermit darf ich Sie im Namen unserer Vorsitzenden – Frau Nonn-Adams – zur Sitzung des Vorstands einladen.\n\nDiese findet am Donnerstag\, den 27. Februar 2020\, Konferenzsaal Restaurant „Zu den Drei Kronen“ statt und beginnt um 19:00 Uhr.\n\nT a g e s o r d n u n g:\n\n1. Eröffnung und Begrüßung\n2. Aktuelle politische Themen\n3. Hans-Memling-Schule\n5. Kommunalwahl 2021\n6. Terminplanung 2020\n7. Allfälliges und Verschiedenes\n\nSteffen Thiel\n– Stellvertretender Ortsvorsitzender –\n\nTerminplan 2020\n\nWeitere Sitzungen des Vorstands sind vorgesehen:\n23.04.2020\n25.06.2020\n27.08.2020\n22.10.2020\n10.12.2020
URL:https://fdp-seligenstadt.de/event/vorstandssitzung/
LOCATION:Zu den Drei Kronen\, Freihofplatz 4\, Seligenstadt\, Hessen\, 63500\, Deutschland
CATEGORIES:intern
ORGANIZER;CN="FDP Seligenstadt":MAILTO:info@fdp-seligenstadt.de
END:VEVENT
BEGIN:VEVENT
DTSTART;TZID=Europe/Berlin:20200229T093000
DTEND;TZID=Europe/Berlin:20200229T133000
DTSTAMP:20260425T025637
CREATED:20200228T084436Z
LAST-MODIFIED:20200228T084436Z
UID:544-1582968600-1582983000@fdp-seligenstadt.de
SUMMARY:Info Stand EiS beim DM
DESCRIPTION:DM (Willi-Brehm-Straße 5\, 63500 Seligenstadt) von 09.30-13.30 Uhr
URL:https://fdp-seligenstadt.de/event/info-stand-eis-beim-dm/
LOCATION:Hessen
CATEGORIES:intern
END:VEVENT
END:VCALENDAR